BEGIN:VCALENDAR
VERSION:2.0
PRODID:-//The Grill House - ECPv6.15.20//NONSGML v1.0//EN
CALSCALE:GREGORIAN
METHOD:PUBLISH
X-WR-CALNAME:The Grill House
X-ORIGINAL-URL:https://grillhouse.net
X-WR-CALDESC:Events for The Grill House
REFRESH-INTERVAL;VALUE=DURATION:PT1H
X-Robots-Tag:noindex
X-PUBLISHED-TTL:PT1H
BEGIN:VTIMEZONE
TZID:America/Detroit
BEGIN:DAYLIGHT
TZOFFSETFROM:-0500
TZOFFSETTO:-0400
TZNAME:EDT
DTSTART:20250309T070000
END:DAYLIGHT
BEGIN:STANDARD
TZOFFSETFROM:-0400
TZOFFSETTO:-0500
TZNAME:EST
DTSTART:20251102T060000
END:STANDARD
BEGIN:DAYLIGHT
TZOFFSETFROM:-0500
TZOFFSETTO:-0400
TZNAME:EDT
DTSTART:20260308T070000
END:DAYLIGHT
BEGIN:STANDARD
TZOFFSETFROM:-0400
TZOFFSETTO:-0500
TZNAME:EST
DTSTART:20261101T060000
END:STANDARD
BEGIN:DAYLIGHT
TZOFFSETFROM:-0500
TZOFFSETTO:-0400
TZNAME:EDT
DTSTART:20270314T070000
END:DAYLIGHT
BEGIN:STANDARD
TZOFFSETFROM:-0400
TZOFFSETTO:-0500
TZNAME:EST
DTSTART:20271107T060000
END:STANDARD
END:VTIMEZONE
BEGIN:VEVENT
DTSTART;VALUE=DATE:20260405
DTEND;VALUE=DATE:20260406
DTSTAMP:20260422T151805
CREATED:20260303T173624Z
LAST-MODIFIED:20260303T173935Z
UID:10000661-1775347200-1775433599@grillhouse.net
SUMMARY:Easter Brunch Buffet At The Silo
DESCRIPTION:We’re excited to bring back our Easter Brunch Buffet at The Silo! 🌸 \n🐣 Easter Sunday | April 5\, 2026⏰ Reservations required — and we book up fast! \n📞 Call 269-686-8383📧 Email siloevents@grillhouse.net \nDon’t wait — gather the family and reserve your table today! \n     
URL:https://grillhouse.net/event/easter-brunch-buffet-at-the-silo/
LOCATION:The Silo\, 1071 32nd St\, Allegan\, MI\, 49010\, United States
ORGANIZER;CN="The Silo":MAILTO:siloevents@grillhouse.net
END:VEVENT
BEGIN:VEVENT
DTSTART;TZID=America/Detroit:20260320T200000
DTEND;TZID=America/Detroit:20260320T230000
DTSTAMP:20260422T151805
CREATED:20260303T173147Z
LAST-MODIFIED:20260303T173303Z
UID:10000660-1774036800-1774047600@grillhouse.net
SUMMARY:Silo After Dark Party
DESCRIPTION:Join us at The Silo for our first Silo After Dark! Enjoy smooth R&B from Tony & Doug\, plus pizzas\, bar snacks\, and a full cash bar. Don’t miss the fun! 🎶🍕🍸
URL:https://grillhouse.net/event/silo-after-dark-party/
LOCATION:The Silo\, 1071 32nd St\, Allegan\, MI\, 49010\, United States
ORGANIZER;CN="The Silo":MAILTO:siloevents@grillhouse.net
END:VEVENT
END:VCALENDAR